BEGIN:VCALENDAR
VERSION:2.0
PRODID:-//CCWA - ECPv6.10.0//NONSGML v1.0//EN
CALSCALE:GREGORIAN
METHOD:PUBLISH
X-WR-CALNAME:CCWA
X-ORIGINAL-URL:https://www.ccwa.org
X-WR-CALDESC:Events for CCWA
REFRESH-INTERVAL;VALUE=DURATION:PT1H
X-Robots-Tag:noindex
X-PUBLISHED-TTL:PT1H
BEGIN:VTIMEZONE
TZID:America/New_York
BEGIN:DAYLIGHT
TZOFFSETFROM:-0500
TZOFFSETTO:-0400
TZNAME:EDT
DTSTART:20260308T070000
END:DAYLIGHT
BEGIN:STANDARD
TZOFFSETFROM:-0400
TZOFFSETTO:-0500
TZNAME:EST
DTSTART:20261101T060000
END:STANDARD
END:VTIMEZONE
BEGIN:VEVENT
DTSTART;TZID=America/New_York:20260623T173000
DTEND;TZID=America/New_York:20260623T190000
DTSTAMP:20260423T093858
CREATED:20260410T182727Z
LAST-MODIFIED:20260410T183138Z
UID:10000770-1782235800-1782241200@www.ccwa.org
SUMMARY:Global Ambassadors Debrief and Impact Session
DESCRIPTION:CCWA invites you to join the Global Ambassadors Debrief and Impact Session on June 23\, 2026\, from 5:30-7:00pm. As we wrap up this year’s program\, the 2025-2026 Global Ambassadors look forward to sharing program impact on their work and their leadership development\, lessons learned\, best practices that can be applied in our community\, and the energy and inspiration they have gained as a part of this program. We are eager to share the impact of the program with you! \nThe event is free of charge\, but advance registration is required.
URL:https://www.ccwa.org/events/global-ambassadors-debrief-and-impact-session-2/
LOCATION:Midtown Collaboration Center\, 1974 E. 66th St.\, Cleveland\, OH\, 44103\, United States
CATEGORIES:CCWA Event
ATTACH;FMTTYPE=image/jpeg:https://www.ccwa.org/wp-content/uploads/2025/09/Diplomacy-pic.jpg
END:VEVENT
BEGIN:VEVENT
DTSTART;TZID=America/New_York:20260625T090000
DTEND;TZID=America/New_York:20260626T123000
DTSTAMP:20260423T093858
CREATED:20260113T142531Z
LAST-MODIFIED:20260318T154345Z
UID:10000758-1782378000-1782477000@www.ccwa.org
SUMMARY:Navigating Trade Policy
DESCRIPTION:CCWA is partnering with world-renowned think tank and executive education provider\, the Center for Strategic and International Studies (CSIS)\, to provide a 1 ½ day in-person executive education opportunity in Cleveland on June 25-26\, 2026. CSIS Executive Education provides innovative programming for problem-solvers and professionals\, leveraging world-class experts and coaches to cultivate a one-of-a-kind learning environment. \nNavigating Trade Policy is designed for mid-career and senior public and private sector professionals\, and will focus on the fundamentals that any current or future leader needs to know about the international trade system\, U.S. trade policy\, and global supply chains—customized to focus on the topics most relevant to  Northeast Ohio organizations. \nThis course is targeted at mid-career and senior business executives who are looking for a greater understanding of global economic issues\, including: \n\nSupply chain professionals\nGovernment affairs representatives\nCompliance specialists\nInternational business development and export market promotion professionals\nMarket analysts and finance specialists\n\nIf you work in supply chain strategy and management\, government affairs\, compliance\, international business development or export market identification\, market analysis\, or finance\, this course is for you! \nThe course is conducted by CSIS and CCWA experts with decades of experience in global trade and economics\, and roots in Ohio: \n \nScott Miller \nSenior Mentor (Non-Resident)\, CSIS Executive Education \nFormer Director for Global Trade Policy\, Procter & Gamble \n \nMeredith Broadbent \nSenior Advisor (Non-Resident)\, Economics Program\, CSIS \nFormer Chair\, U.S. International Trade Commission \n \nMarti Flacks \nChief Executive Officer\, CCWA \nFormer Deputy Assistant Secretary for Supply Chains\, U.S. Department of Commerce \n  \nIn partnership with:
URL:https://www.ccwa.org/events/navigating-trade-policy/
LOCATION:Oswald Tower\, 950 Main Avenue\, Cleveland\, 44113\, United States
CATEGORIES:CCWA Event
ATTACH;FMTTYPE=image/png:https://www.ccwa.org/wp-content/uploads/2026/01/Picture1-scaled.png
END:VEVENT
END:VCALENDAR